BEGIN:VCALENDAR
VERSION:2.0
PRODID:-//time.now/holidays//NONSGML v1.0//EN
BEGIN:VEVENT
UID:789b949b-a7f2-4f28-b97c-f21f04fce6c7
DTSTAMP:20260422T223815Z
DTSTART;VALUE=DATE:20250331
SUMMARY:Eid al-Fitr (observed) (Macédoine du Nord)
END:VEVENT
END:VCALENDAR