BEGIN:VCALENDAR
VERSION:2.0
PRODID:-//time.now/holidays//NONSGML v1.0//EN
BEGIN:VEVENT
UID:5b757eee-f0d7-4569-acd0-88c5a8c8e11e
DTSTAMP:20260422T091644Z
DTSTART;VALUE=DATE:20220502
SUMMARY:Eid al-Fitr; Labor Day (observed) (Macédoine du Nord)
END:VEVENT
END:VCALENDAR