BEGIN:VCALENDAR
VERSION:2.0
PRODID:-//time.now/holidays//NONSGML v1.0//EN
BEGIN:VEVENT
UID:ba6413a7-8568-4a70-aa21-0142feb92dea
DTSTAMP:20260422T223818Z
DTSTART;VALUE=DATE:20260320
SUMMARY:Eid al-Fitr (estimated) (Macédoine du Nord)
END:VEVENT
END:VCALENDAR