BEGIN:VCALENDAR
VERSION:2.0
PRODID:-//time.now/holidays//NONSGML v1.0//EN
BEGIN:VEVENT
UID:c989051d-d859-4a38-9c0d-be6083917a75
DTSTAMP:20260420T201910Z
DTSTART;VALUE=DATE:20260107
SUMMARY:Christmas Day (Macédoine du Nord)
END:VEVENT
END:VCALENDAR