BEGIN:VCALENDAR
VERSION:2.0
PRODID:-//time.now/holidays//NONSGML v1.0//EN
BEGIN:VEVENT
UID:6cef98e7-cfd3-4981-af38-09f27811ec01
DTSTAMP:20260420T045218Z
DTSTART;VALUE=DATE:20260501
SUMMARY:Workers' Day (Nigéria)
END:VEVENT
END:VCALENDAR