BEGIN:VCALENDAR
VERSION:2.0
PRODID:-//time.now/holidays//NONSGML v1.0//EN
BEGIN:VEVENT
UID:1af397cc-d8c1-4202-b1fe-acba3ea1e26d
DTSTAMP:20260420T215134Z
DTSTART;VALUE=DATE:20270816
SUMMARY:Eid-el-Mawlid (estimated) (observed) (Nigéria)
END:VEVENT
END:VCALENDAR