BEGIN:VCALENDAR
VERSION:2.0
PRODID:-//time.now/holidays//NONSGML v1.0//EN
BEGIN:VEVENT
UID:b17e0036-dec3-47f8-9625-ae57596f921d
DTSTAMP:20260420T111954Z
DTSTART;VALUE=DATE:20260612
SUMMARY:Democracy Day (Nigéria)
END:VEVENT
END:VCALENDAR