BEGIN:VCALENDAR
VERSION:2.0
PRODID:-//time.now/holidays//NONSGML v1.0//EN
BEGIN:VEVENT
UID:96559805-d3e5-4958-9a80-595f998f683d
DTSTAMP:20260420T093330Z
DTSTART;VALUE=DATE:20270614
SUMMARY:Democracy Day (observed) (Nigéria)
END:VEVENT
END:VCALENDAR