BEGIN:VCALENDAR
VERSION:2.0
PRODID:-//time.now/holidays//NONSGML v1.0//EN
BEGIN:VEVENT
UID:d6add4d7-7fdf-48d1-ac76-37eb63453f32
DTSTAMP:20260420T142628Z
DTSTART;VALUE=DATE:20221219
SUMMARY:National Day (observed) (Niger)
END:VEVENT
END:VCALENDAR