BEGIN:VCALENDAR
VERSION:2.0
PRODID:-//time.now/holidays//NONSGML v1.0//EN
BEGIN:VEVENT
UID:ff10259c-b7da-4d16-b79a-cb32ea3da842
DTSTAMP:20260420T112126Z
DTSTART;VALUE=DATE:20260616
SUMMARY:Islamic New Year (estimated) (Niger)
END:VEVENT
END:VCALENDAR