BEGIN:VCALENDAR
VERSION:2.0
PRODID:-//time.now/holidays//NONSGML v1.0//EN
BEGIN:VEVENT
UID:ed8232af-c708-45f8-9d14-4741765c6199
DTSTAMP:20260420T162959Z
DTSTART;VALUE=DATE:20260501
SUMMARY:International Labor Day (Niger)
END:VEVENT
END:VCALENDAR