BEGIN:VCALENDAR
VERSION:2.0
PRODID:-//time.now/holidays//NONSGML v1.0//EN
BEGIN:VEVENT
UID:34ebd32a-065f-4f9e-a096-6a7d5ba40c2e
DTSTAMP:20260420T165613Z
DTSTART;VALUE=DATE:20250331
SUMMARY:Eid al-Fitr (observed) (Niger)
END:VEVENT
END:VCALENDAR