BEGIN:VCALENDAR
VERSION:2.0
PRODID:-//time.now/holidays//NONSGML v1.0//EN
BEGIN:VEVENT
UID:c425e48b-d5a2-4766-9248-af64f3dcdbdc
DTSTAMP:20260419T204222Z
DTSTART;VALUE=DATE:20260406
SUMMARY:Easter Monday (Niger)
END:VEVENT
END:VCALENDAR