BEGIN:VCALENDAR
VERSION:2.0
PRODID:-//time.now/holidays//NONSGML v1.0//EN
BEGIN:VEVENT
UID:dced92b4-1cf7-46d5-93df-470ab14af7d1
DTSTAMP:20260423T102901Z
DTSTART;VALUE=DATE:20280803
SUMMARY:Anniversary of the Proclamation of Independence; Prophet's Birthday (estimated) (Niger)
END:VEVENT
END:VCALENDAR