BEGIN:VCALENDAR
VERSION:2.0
PRODID:-//time.now/holidays//NONSGML v1.0//EN
BEGIN:VEVENT
UID:f9e3395c-05de-4be7-8591-f4b469ada660
DTSTAMP:20260420T215754Z
DTSTART;VALUE=DATE:20260530
SUMMARY:Mother's Day (Nicaragua)
END:VEVENT
END:VCALENDAR