BEGIN:VCALENDAR
VERSION:2.0
PRODID:-//time.now/holidays//NONSGML v1.0//EN
BEGIN:VEVENT
UID:709f8fd6-7650-4e05-8435-f17911cc5dc8
DTSTAMP:20260420T213228Z
DTSTART;VALUE=DATE:20260710
SUMMARY:Matariki (Nouvelle-Zélande)
END:VEVENT
END:VCALENDAR