BEGIN:VCALENDAR
VERSION:2.0
PRODID:-//time.now/holidays//NONSGML v1.0//EN
BEGIN:VEVENT
UID:fc8d653b-a3df-4af3-89c1-79d1c804eb27
DTSTAMP:20260421T005750Z
DTSTART;VALUE=DATE:20261102
SUMMARY:Marlborough Anniversary Day (Nouvelle-Zélande)
END:VEVENT
END:VCALENDAR