BEGIN:VCALENDAR
VERSION:2.0
PRODID:-//time.now/holidays//NONSGML v1.0//EN
BEGIN:VEVENT
UID:416d4af9-7ba6-4859-b546-bde8bf12b079
DTSTAMP:20260422T091040Z
DTSTART;VALUE=DATE:20261225
SUMMARY:Christmas Day (Nouvelle-Zélande)
END:VEVENT
END:VCALENDAR