BEGIN:VCALENDAR
VERSION:2.0
PRODID:-//time.now/holidays//NONSGML v1.0//EN
BEGIN:VEVENT
UID:a1cc205f-69a5-415b-b8de-123e7fe1b37e
DTSTAMP:20260422T193237Z
DTSTART;VALUE=DATE:20261226
SUMMARY:Boxing Day (Nouvelle-Zélande)
END:VEVENT
END:VCALENDAR