BEGIN:VCALENDAR
VERSION:2.0
PRODID:-//time.now/holidays//NONSGML v1.0//EN
BEGIN:VEVENT
UID:aba257f9-dc4f-49ee-a82c-d2edd8666147
DTSTAMP:20260422T091039Z
DTSTART;VALUE=DATE:20261228
SUMMARY:Boxing Day (observed) (Nouvelle-Zélande)
END:VEVENT
END:VCALENDAR