BEGIN:VCALENDAR
VERSION:2.0
PRODID:-//time.now/holidays//NONSGML v1.0//EN
BEGIN:VEVENT
UID:5d5f31b6-9118-43e3-9fb3-5a36e8efc1a2
DTSTAMP:20260422T134120Z
DTSTART;VALUE=DATE:20260126
SUMMARY:Auckland Anniversary Day (Nouvelle-Zélande)
END:VEVENT
END:VCALENDAR