BEGIN:VCALENDAR
VERSION:2.0
PRODID:-//time.now/holidays//NONSGML v1.0//EN
BEGIN:VEVENT
UID:64467e58-f893-4c4f-9e0b-fdcbcd7be3c6
DTSTAMP:20260420T151845Z
DTSTART;VALUE=DATE:20260101
SUMMARY:New Year's Day (Pays-Bas)
END:VEVENT
END:VCALENDAR