BEGIN:VCALENDAR
VERSION:2.0
PRODID:-//time.now/holidays//NONSGML v1.0//EN
BEGIN:VEVENT
UID:35a6957b-a5cb-408b-9213-f97405e42daf
DTSTAMP:20260420T045355Z
DTSTART;VALUE=DATE:20260405
SUMMARY:Easter Sunday (Pays-Bas)
END:VEVENT
END:VCALENDAR