BEGIN:VCALENDAR
VERSION:2.0
PRODID:-//time.now/holidays//NONSGML v1.0//EN
BEGIN:VEVENT
UID:3604f150-ce60-4514-a421-15f13367980c
DTSTAMP:20260420T135829Z
DTSTART;VALUE=DATE:20261225
SUMMARY:Christmas Day (Pays-Bas)
END:VEVENT
END:VCALENDAR