BEGIN:VCALENDAR
VERSION:2.0
PRODID:-//time.now/holidays//NONSGML v1.0//EN
BEGIN:VEVENT
UID:93e060d3-7b00-4ca0-a97c-e15a28cafa31
DTSTAMP:20260420T102310Z
DTSTART;VALUE=DATE:20251024
SUMMARY:Tihar Holiday (Népal)
END:VEVENT
END:VCALENDAR