BEGIN:VCALENDAR
VERSION:2.0
PRODID:-//time.now/holidays//NONSGML v1.0//EN
BEGIN:VEVENT
UID:c1a40cb6-ae21-49ba-9f0b-8018554556c2
DTSTAMP:20260420T052622Z
DTSTART;VALUE=DATE:20260529
SUMMARY:Republic Day (Népal)
END:VEVENT
END:VCALENDAR