BEGIN:VCALENDAR
VERSION:2.0
PRODID:-//time.now/holidays//NONSGML v1.0//EN
BEGIN:VEVENT
UID:27526d5d-71f3-404f-a2c4-abeb60b962b7
DTSTAMP:20260419T223749Z
DTSTART;VALUE=DATE:20260327
SUMMARY:Ram Navami (Népal)
END:VEVENT
END:VCALENDAR