BEGIN:VCALENDAR
VERSION:2.0
PRODID:-//time.now/holidays//NONSGML v1.0//EN
BEGIN:VEVENT
UID:327b86b9-a930-4184-8aa2-d094c6100aac
DTSTAMP:20260420T062055Z
DTSTART;VALUE=DATE:20260129
SUMMARY:Martyr's Day (Népal)
END:VEVENT
END:VCALENDAR