BEGIN:VCALENDAR
VERSION:2.0
PRODID:-//time.now/holidays//NONSGML v1.0//EN
BEGIN:VEVENT
UID:6685cd50-ee67-448b-abfb-bf32642afc4b
DTSTAMP:20260422T092047Z
DTSTART;VALUE=DATE:20350308
SUMMARY:International Women's Day; Maha Shivaratri (Népal)
END:VEVENT
END:VCALENDAR