BEGIN:VCALENDAR
VERSION:2.0
PRODID:-//time.now/holidays//NONSGML v1.0//EN
BEGIN:VEVENT
UID:7adecf1c-9928-42cc-97c0-c930bf07643f
DTSTAMP:20260420T182209Z
DTSTART;VALUE=DATE:20270501
SUMMARY:International Labour Day (Népal)
END:VEVENT
END:VCALENDAR