BEGIN:VCALENDAR
VERSION:2.0
PRODID:-//time.now/holidays//NONSGML v1.0//EN
BEGIN:VEVENT
UID:3a3305dd-f7de-4618-b307-b411cd870809
DTSTAMP:20260420T214100Z
DTSTART;VALUE=DATE:20260218
SUMMARY:Gyalpo Lhosar (Népal)
END:VEVENT
END:VCALENDAR