BEGIN:VCALENDAR
VERSION:2.0
PRODID:-//time.now/holidays//NONSGML v1.0//EN
BEGIN:VEVENT
UID:5dd60310-071a-4e18-9361-3299fe0fee08
DTSTAMP:20260420T103553Z
DTSTART;VALUE=DATE:20261110
SUMMARY:Gobardhan Pooja; Mha Pooja (Népal)
END:VEVENT
END:VCALENDAR