BEGIN:VCALENDAR
VERSION:2.0
PRODID:-//time.now/holidays//NONSGML v1.0//EN
BEGIN:VEVENT
UID:59b0ec29-b95e-4a77-a371-d7bad3613e4b
DTSTAMP:20260420T115333Z
DTSTART;VALUE=DATE:20261011
SUMMARY:Ghatasthapana (Népal)
END:VEVENT
END:VCALENDAR