BEGIN:VCALENDAR
VERSION:2.0
PRODID:-//time.now/holidays//NONSGML v1.0//EN
BEGIN:VEVENT
UID:681087ec-a920-4308-9b51-006684e4ee91
DTSTAMP:20260420T130605Z
DTSTART;VALUE=DATE:20261109
SUMMARY:Gai Tihar (Népal)
END:VEVENT
END:VCALENDAR