BEGIN:VCALENDAR
VERSION:2.0
PRODID:-//time.now/holidays//NONSGML v1.0//EN
BEGIN:VEVENT
UID:1206d6e7-f72d-4f5a-a995-3a29b973722d
DTSTAMP:20260420T032228Z
DTSTART;VALUE=DATE:20261018
SUMMARY:Fulpati (Népal)
END:VEVENT
END:VCALENDAR