BEGIN:VCALENDAR
VERSION:2.0
PRODID:-//time.now/holidays//NONSGML v1.0//EN
BEGIN:VEVENT
UID:b09cbb5c-13b4-44e5-9a0b-d4a489e646bb
DTSTAMP:20260422T090548Z
DTSTART;VALUE=DATE:20230116
SUMMARY:Day of National Mourning (Népal)
END:VEVENT
END:VCALENDAR