BEGIN:VCALENDAR
VERSION:2.0
PRODID:-//time.now/holidays//NONSGML v1.0//EN
BEGIN:VEVENT
UID:d56f391d-7162-4f83-86d4-f00db514f19f
DTSTAMP:20260419T222351Z
DTSTART;VALUE=DATE:20260919
SUMMARY:Constitution Day (Népal)
END:VEVENT
END:VCALENDAR