BEGIN:VCALENDAR
VERSION:2.0
PRODID:-//time.now/holidays//NONSGML v1.0//EN
BEGIN:VEVENT
UID:001366db-5ed9-4583-853f-3b65488da532
DTSTAMP:20260420T075830Z
DTSTART;VALUE=DATE:20270520
SUMMARY:Buddha Jayanti (Népal)
END:VEVENT
END:VCALENDAR