BEGIN:VCALENDAR
VERSION:2.0
PRODID:-//time.now/holidays//NONSGML v1.0//EN
BEGIN:VEVENT
UID:d7ab2f21-0497-4f90-ae4a-1eb15bab6c09
DTSTAMP:20260420T142905Z
DTSTART;VALUE=DATE:20261111
SUMMARY:Bhai Tika (Népal)
END:VEVENT
END:VCALENDAR