BEGIN:VCALENDAR
VERSION:2.0
PRODID:-//time.now/holidays//NONSGML v1.0//EN
BEGIN:VEVENT
UID:390c8de4-b58d-449d-b3d1-7355a45f2bdb
DTSTAMP:20260420T070909Z
DTSTART;VALUE=DATE:20280703
SUMMARY:RONPHOS Handover (observed) (Nauru)
END:VEVENT
END:VCALENDAR