BEGIN:VCALENDAR
VERSION:2.0
PRODID:-//time.now/holidays//NONSGML v1.0//EN
BEGIN:VEVENT
UID:cff2742f-b89d-42c9-8db2-307b73390b54
DTSTAMP:20260420T174625Z
DTSTART;VALUE=DATE:20280103
SUMMARY:New Year's Day (observed) (Nauru)
END:VEVENT
END:VCALENDAR