BEGIN:VCALENDAR
VERSION:2.0
PRODID:-//time.now/holidays//NONSGML v1.0//EN
BEGIN:VEVENT
UID:6a546d95-d990-4c9d-a939-81d36d79970c
DTSTAMP:20260420T045349Z
DTSTART;VALUE=DATE:20260403
SUMMARY:Good Friday (Nauru)
END:VEVENT
END:VCALENDAR