BEGIN:VCALENDAR
VERSION:2.0
PRODID:-//time.now/holidays//NONSGML v1.0//EN
BEGIN:VEVENT
UID:0bcf9dd5-6665-4d04-a1cb-1db1df073690
DTSTAMP:20260422T124702Z
DTSTART;VALUE=DATE:20261226
SUMMARY:Day following Christmas (Nauru)
END:VEVENT
END:VCALENDAR