BEGIN:VCALENDAR
VERSION:2.0
PRODID:-//time.now/holidays//NONSGML v1.0//EN
BEGIN:VEVENT
UID:aa709d85-556e-4886-89a6-f49c272c8e7e
DTSTAMP:20260420T131017Z
DTSTART;VALUE=DATE:20261225
SUMMARY:Christmas Day (Nauru)
END:VEVENT
END:VCALENDAR