BEGIN:VCALENDAR
VERSION:2.0
PRODID:-//time.now/holidays//NONSGML v1.0//EN
BEGIN:VEVENT
UID:f3cddac2-eaa1-42f0-9a68-766ab8fce3c0
DTSTAMP:20260419T154716Z
DTSTART;VALUE=DATE:20260321
SUMMARY:Independence Day (Namibie)
END:VEVENT
END:VCALENDAR