BEGIN:VCALENDAR
VERSION:2.0
PRODID:-//time.now/holidays//NONSGML v1.0//EN
BEGIN:VEVENT
UID:51030c16-c17f-4a90-84f7-3e5147fe2c4c
DTSTAMP:20260419T235835Z
DTSTART;VALUE=DATE:20241127
SUMMARY:General Election Day (Namibie)
END:VEVENT
END:VCALENDAR