BEGIN:VCALENDAR
VERSION:2.0
PRODID:-//time.now/holidays//NONSGML v1.0//EN
BEGIN:VEVENT
UID:91bc1045-be86-4fec-82ba-59cd278ac95e
DTSTAMP:20260420T162129Z
DTSTART;VALUE=DATE:20271227
SUMMARY:Family Day (observed) (Namibie)
END:VEVENT
END:VCALENDAR