BEGIN:VCALENDAR
VERSION:2.0
PRODID:-//time.now/holidays//NONSGML v1.0//EN
BEGIN:VEVENT
UID:508f5dc4-0d71-4e6a-a0b2-75b13ffb366b
DTSTAMP:20260419T190436Z
DTSTART;VALUE=DATE:20260504
SUMMARY:Cassinga Day (Namibie)
END:VEVENT
END:VCALENDAR