BEGIN:VCALENDAR
VERSION:2.0
PRODID:-//time.now/holidays//NONSGML v1.0//EN
BEGIN:VEVENT
UID:f354c551-725b-41bf-9970-c266ffcdd5b7
DTSTAMP:20260420T022029Z
DTSTART;VALUE=DATE:20310505
SUMMARY:Cassinga Day (observed) (Namibie)
END:VEVENT
END:VCALENDAR