BEGIN:VCALENDAR
VERSION:2.0
PRODID:-//time.now/holidays//NONSGML v1.0//EN
BEGIN:VEVENT
UID:8924983e-adda-4993-8254-7fcfaf558cfa
DTSTAMP:20260419T212943Z
DTSTART;VALUE=DATE:20260514
SUMMARY:Ascension Day (Namibie)
END:VEVENT
END:VCALENDAR